View In:
ArcGIS JavaScript
ArcGIS Online Map Viewer
ArcGIS Earth
Service Description: Elevation data of New Hanover County, NC from 2014. Derived from LiDAR data provided by the state.
Name: Basemaps/Elevation2014
Description: Elevation data of New Hanover County, NC from 2014. Derived from LiDAR data provided by the state.
Single Fused Map Cache: false
Extent:
XMin: 2294982.806457475
YMin: 50016.641560688615
XMax: 2390022.806457475
YMax: 234981.64156068861
Spatial Reference: 103122
(6543)
LatestVCSWkid(0)
Initial Extent:
XMin: 2294982.806457475
YMin: 50016.641560688615
XMax: 2390022.806457475
YMax: 234981.64156068861
Spatial Reference: 103122
(6543)
LatestVCSWkid(0)
Full Extent:
XMin: 2294982.806457475
YMin: 50016.641560688615
XMax: 2390022.806457475
YMax: 234981.64156068861
Spatial Reference: 103122
(6543)
LatestVCSWkid(0)
Pixel Size X: 55.0
Pixel Size Y: 55.0
Band Count: 1
Pixel Type: U8
RasterFunction Infos: {"rasterFunctionInfos": [{
"name": "None",
"description": "",
"help": ""
}]}
Mensuration Capabilities: Basic
Inspection Capabilities:
Has Histograms: true
Has Colormap: false
Has Multi Dimensions : false
Rendering Rule:
Min Scale: 0
Max Scale: 0
Resampling: false
Copyright Text:
Service Data Type: esriImageServiceDataTypeGeneric
Min Values: 0
Max Values: 125
Mean Values: 19.77589519894947
Standard Deviation Values: 15.216171751304369
Object ID Field:
Fields:
None
Default Mosaic Method: Center
Allowed Mosaic Methods:
SortField:
SortValue: null
Mosaic Operator: First
Default Compression Quality: 75
Default Resampling Method: Bilinear
Max Record Count: null
Max Image Height: 4100
Max Image Width: 15000
Max Download Image Count: null
Max Mosaic Image Count: null
Allow Raster Function: true
Allow Copy: true
Allow Analysis: true
Allow Compute TiePoints: false
Supports Statistics: false
Supports Advanced Queries: false
Use StandardizedQueries: true
Raster Type Infos:
Name: Raster Dataset
Description: Supports all ArcGIS Raster Datasets
Help:
Has Raster Attribute Table: false
Edit Fields Info: null
Ownership Based AccessControl For Rasters: null
Child Resources:
Info
Histograms
Statistics
Key Properties
Legend
Raster Function Infos
Supported Operations:
Export Image
Identify
Measure
Compute Histograms
Compute Statistics Histograms
Get Samples
Compute Class Statistics
Query Boundary
Compute Pixel Location
Compute Angles
Validate
Project